BEGIN:VCALENDAR
VERSION:2.0
PRODID:-//Pleasley Parish Council//Meeting Calendar//EN
CALSCALE:GREGORIAN
METHOD:PUBLISH
BEGIN:VEVENT
UID:70480-20250303@pleasleyparishcouncil.gov.uk
DTSTAMP:20260420T074601Z
DTSTART;VALUE=DATE:20250303
DTEND;VALUE=DATE:20250304
SUMMARY:Council Meeting – 3 March 2025
DESCRIPTION:Full Council Meeting\nView details: https://pleasleyparishcouncil.gov.uk/meetings/council-meeting-3-march-2025/
URL:https://pleasleyparishcouncil.gov.uk/meetings/council-meeting-3-march-2025/
END:VEVENT
END:VCALENDAR
