BEGIN:VCALENDAR
VERSION:2.0
PRODID:-//Pleasley Parish Council//Meeting Calendar//EN
CALSCALE:GREGORIAN
METHOD:PUBLISH
BEGIN:VEVENT
UID:70484-20250512@pleasleyparishcouncil.gov.uk
DTSTAMP:20260420T041511Z
DTSTART;VALUE=DATE:20250512
DTEND;VALUE=DATE:20250513
SUMMARY:Council Meeting &#8211\\; 12 May 2025
DESCRIPTION:Full Council Meeting\nView details: https://pleasleyparishcouncil.gov.uk/meetings/council-meeting-12-may-2025/
URL:https://pleasleyparishcouncil.gov.uk/meetings/council-meeting-12-may-2025/
END:VEVENT
END:VCALENDAR
