BEGIN:VCALENDAR
VERSION:2.0
PRODID:-//Pleasley Parish Council//Meeting Calendar//EN
CALSCALE:GREGORIAN
METHOD:PUBLISH
BEGIN:VEVENT
UID:70488-20250602@pleasleyparishcouncil.gov.uk
DTSTAMP:20260420T022130Z
DTSTART;VALUE=DATE:20250602
DTEND;VALUE=DATE:20250603
SUMMARY:Council Meeting &#8211\\; 2 June 2025
DESCRIPTION:Full Council Meeting\nView details: https://pleasleyparishcouncil.gov.uk/meetings/council-meeting-2-june-2025/
URL:https://pleasleyparishcouncil.gov.uk/meetings/council-meeting-2-june-2025/
END:VEVENT
END:VCALENDAR
