BEGIN:VCALENDAR
VERSION:2.0
PRODID:-//Pleasley Parish Council//Meeting Calendar//EN
CALSCALE:GREGORIAN
METHOD:PUBLISH
BEGIN:VEVENT
UID:70490-20250616@pleasleyparishcouncil.gov.uk
DTSTAMP:20260420T004543Z
DTSTART;VALUE=DATE:20250616
DTEND;VALUE=DATE:20250617
SUMMARY:Council Meeting &#8211\\; 16 June 2025
DESCRIPTION:Full Council Meeting\nView details: https://pleasleyparishcouncil.gov.uk/meetings/council-meeting-16-june-2025/
URL:https://pleasleyparishcouncil.gov.uk/meetings/council-meeting-16-june-2025/
END:VEVENT
END:VCALENDAR
