BEGIN:VCALENDAR
VERSION:2.0
PRODID:-//Pleasley Parish Council//Meeting Calendar//EN
CALSCALE:GREGORIAN
METHOD:PUBLISH
BEGIN:VEVENT
UID:70495-20250901@pleasleyparishcouncil.gov.uk
DTSTAMP:20260419T211218Z
DTSTART;VALUE=DATE:20250901
DTEND;VALUE=DATE:20250902
SUMMARY:Council Meeting &#8211\\; 1 September 2025
DESCRIPTION:Full Council Meeting\nView details: https://pleasleyparishcouncil.gov.uk/meetings/council-meeting-1-september-2025/
URL:https://pleasleyparishcouncil.gov.uk/meetings/council-meeting-1-september-2025/
END:VEVENT
END:VCALENDAR
