BEGIN:VCALENDAR
VERSION:2.0
PRODID:-//Pleasley Parish Council//Meeting Calendar//EN
CALSCALE:GREGORIAN
METHOD:PUBLISH
BEGIN:VEVENT
UID:70497-20251006@pleasleyparishcouncil.gov.uk
DTSTAMP:20260419T194216Z
DTSTART;VALUE=DATE:20251006
DTEND;VALUE=DATE:20251007
SUMMARY:Council Meeting &#8211\\; 6 October 2025
DESCRIPTION:Full Council Meeting\nView details: https://pleasleyparishcouncil.gov.uk/meetings/council-meeting-6-october-2025/
URL:https://pleasleyparishcouncil.gov.uk/meetings/council-meeting-6-october-2025/
END:VEVENT
END:VCALENDAR
