BEGIN:VCALENDAR
VERSION:2.0
PRODID:-//Pleasley Parish Council//Meeting Calendar//EN
CALSCALE:GREGORIAN
METHOD:PUBLISH
BEGIN:VEVENT
UID:70498-20251103@pleasleyparishcouncil.gov.uk
DTSTAMP:20260419T175534Z
DTSTART;VALUE=DATE:20251103
DTEND;VALUE=DATE:20251104
SUMMARY:Council Meeting &#8211\\; 3 November 2025
DESCRIPTION:Full Council Meeting\nView details: https://pleasleyparishcouncil.gov.uk/meetings/council-meeting-3-november-2025/
URL:https://pleasleyparishcouncil.gov.uk/meetings/council-meeting-3-november-2025/
END:VEVENT
END:VCALENDAR
