BEGIN:VCALENDAR
VERSION:2.0
PRODID:-//Pleasley Parish Council//Meeting Calendar//EN
CALSCALE:GREGORIAN
METHOD:PUBLISH
BEGIN:VEVENT
UID:70499-20240102@pleasleyparishcouncil.gov.uk
DTSTAMP:20260421T120843Z
DTSTART;VALUE=DATE:20240102
DTEND;VALUE=DATE:20240103
SUMMARY:Council Meetings – 2024
DESCRIPTION:Full Council Meeting\nView details: https://pleasleyparishcouncil.gov.uk/meetings/council-meetings-2024/
URL:https://pleasleyparishcouncil.gov.uk/meetings/council-meetings-2024/
END:VEVENT
END:VCALENDAR
