BEGIN:VCALENDAR
VERSION:2.0
PRODID:-//Pleasley Parish Council//Meeting Calendar//EN
CALSCALE:GREGORIAN
METHOD:PUBLISH
BEGIN:VEVENT
UID:70511-20230202@pleasleyparishcouncil.gov.uk
DTSTAMP:20260421T115334Z
DTSTART;VALUE=DATE:20230202
DTEND;VALUE=DATE:20230203
SUMMARY:Council Meetings – 2023
DESCRIPTION:Full Council Meeting\nView details: https://pleasleyparishcouncil.gov.uk/meetings/council-meetings-2023/
URL:https://pleasleyparishcouncil.gov.uk/meetings/council-meetings-2023/
END:VEVENT
END:VCALENDAR
