BEGIN:VCALENDAR
VERSION:2.0
PRODID:-//Pleasley Parish Council//Meeting Calendar//EN
CALSCALE:GREGORIAN
METHOD:PUBLISH
BEGIN:VEVENT
UID:70525-20230515@pleasleyparishcouncil.gov.uk
DTSTAMP:20260421T120701Z
DTSTART;VALUE=DATE:20230515
DTEND;VALUE=DATE:20230516
SUMMARY:Annual Council Meeting &#8211\\; 15 May 2023
DESCRIPTION:Full Council Meeting\nView details: https://pleasleyparishcouncil.gov.uk/meetings/annual-council-meeting-15-may-2023/
URL:https://pleasleyparishcouncil.gov.uk/meetings/annual-council-meeting-15-may-2023/
END:VEVENT
END:VCALENDAR
