BEGIN:VCALENDAR
VERSION:2.0
PRODID:-//Pleasley Parish Council//Meeting Calendar//EN
CALSCALE:GREGORIAN
METHOD:PUBLISH
BEGIN:VEVENT
UID:70640-20260302@pleasleyparishcouncil.gov.uk
DTSTAMP:20260421T102516Z
DTSTART;VALUE=DATE:20260302
DTEND;VALUE=DATE:20260303
SUMMARY:Council Meeting &#8211\\; 2nd March 2026 &#8211\\; Verney Institute\\, Pleasley
DESCRIPTION:Full Council Meeting\nView details: https://pleasleyparishcouncil.gov.uk/meetings/council-meeting-2nd-march-2026-held-at-the-verney-institute-13-newboundmill-lane-pleasley-ng19-7pl/
URL:https://pleasleyparishcouncil.gov.uk/meetings/council-meeting-2nd-march-2026-held-at-the-verney-institute-13-newboundmill-lane-pleasley-ng19-7pl/
END:VEVENT
END:VCALENDAR
