BEGIN:VCALENDAR
VERSION:2.0
PRODID:-//Pleasley Parish Council//Meeting Calendar//EN
CALSCALE:GREGORIAN
METHOD:PUBLISH
BEGIN:VEVENT
UID:70668-20251201@pleasleyparishcouncil.gov.uk
DTSTAMP:20260419T161745Z
DTSTART;VALUE=DATE:20251201
DTEND;VALUE=DATE:20251202
SUMMARY:Council Meeting 1st December 2025
DESCRIPTION:Full Council Meeting\nView details: https://pleasleyparishcouncil.gov.uk/meetings/meeting-name-here/
URL:https://pleasleyparishcouncil.gov.uk/meetings/meeting-name-here/
END:VEVENT
END:VCALENDAR
