BEGIN:VCALENDAR
VERSION:2.0
PRODID:-//Pleasley Parish Council//Meeting Calendar//EN
CALSCALE:GREGORIAN
METHOD:PUBLISH
BEGIN:VEVENT
UID:70671-20260105@pleasleyparishcouncil.gov.uk
DTSTAMP:20260419T144303Z
DTSTART;VALUE=DATE:20260105
DTEND;VALUE=DATE:20260106
SUMMARY:Council Meeting &#8211\\; 5th January 2026
DESCRIPTION:Full Council Meeting\nView details: https://pleasleyparishcouncil.gov.uk/meetings/meeting-name-here-2/
URL:https://pleasleyparishcouncil.gov.uk/meetings/meeting-name-here-2/
END:VEVENT
END:VCALENDAR
