BEGIN:VCALENDAR
VERSION:2.0
PRODID:-//Pleasley Parish Council//Meeting Calendar//EN
CALSCALE:GREGORIAN
METHOD:PUBLISH
BEGIN:VEVENT
UID:70677-20240513@pleasleyparishcouncil.gov.uk
DTSTAMP:20260421T121014Z
DTSTART;VALUE=DATE:20240513
DTEND;VALUE=DATE:20240514
SUMMARY:Annual Parish 2024
DESCRIPTION:Annual Parish Meeting\nView details: https://pleasleyparishcouncil.gov.uk/meetings/annual-parish-2024/
URL:https://pleasleyparishcouncil.gov.uk/meetings/annual-parish-2024/
END:VEVENT
END:VCALENDAR
